BEGIN:VCALENDAR
VERSION:2.0
PRODID:-//Inify Laboratories - ECPv6.15.20//NONSGML v1.0//EN
CALSCALE:GREGORIAN
METHOD:PUBLISH
X-WR-CALNAME:Inify Laboratories
X-ORIGINAL-URL:https://www.inify.com
X-WR-CALDESC:Events for Inify Laboratories
REFRESH-INTERVAL;VALUE=DURATION:PT1H
X-Robots-Tag:noindex
X-PUBLISHED-TTL:PT1H
BEGIN:VTIMEZONE
TZID:Europe/Stockholm
BEGIN:DAYLIGHT
TZOFFSETFROM:+0100
TZOFFSETTO:+0200
TZNAME:CEST
DTSTART:20230326T010000
END:DAYLIGHT
BEGIN:STANDARD
TZOFFSETFROM:+0200
TZOFFSETTO:+0100
TZNAME:CET
DTSTART:20231029T010000
END:STANDARD
BEGIN:DAYLIGHT
TZOFFSETFROM:+0100
TZOFFSETTO:+0200
TZNAME:CEST
DTSTART:20240331T010000
END:DAYLIGHT
BEGIN:STANDARD
TZOFFSETFROM:+0200
TZOFFSETTO:+0100
TZNAME:CET
DTSTART:20241027T010000
END:STANDARD
BEGIN:DAYLIGHT
TZOFFSETFROM:+0100
TZOFFSETTO:+0200
TZNAME:CEST
DTSTART:20250330T010000
END:DAYLIGHT
BEGIN:STANDARD
TZOFFSETFROM:+0200
TZOFFSETTO:+0100
TZNAME:CET
DTSTART:20251026T010000
END:STANDARD
END:VTIMEZONE
BEGIN:VEVENT
DTSTART;TZID=Europe/Stockholm:20240826T130000
DTEND;TZID=Europe/Stockholm:20240829T130000
DTSTAMP:20260425T201030
CREATED:20240320T150854Z
LAST-MODIFIED:20240320T155121Z
UID:266775-1724677200-1724936400@www.inify.com
SUMMARY:Kalmarunionen
DESCRIPTION:Meet us at Kalmarunionen in Kalmar\, a recurring meeting for urologists and companies with an interest in diagnostics and treatment of prostate diseases. \n 
URL:https://www.inify.com/event/kalmarunionen/
LOCATION:Länssjukhuset i Kalmar och Biostaden.\, Lasarettsvägen 1\, Kalmar\, Sweden\, 392 56
CATEGORIES:Kalmarunionen 2024
ATTACH;FMTTYPE=image/png:https://media.inify.com/Kalmarunionen-2024_-662x190-1.png
END:VEVENT
END:VCALENDAR