BEGIN:VCALENDAR
VERSION:2.0
PRODID:-//Inify Laboratories - ECPv6.15.20//NONSGML v1.0//EN
CALSCALE:GREGORIAN
METHOD:PUBLISH
X-WR-CALNAME:Inify Laboratories
X-ORIGINAL-URL:https://www.inify.com
X-WR-CALDESC:Events for Inify Laboratories
REFRESH-INTERVAL;VALUE=DURATION:PT1H
X-Robots-Tag:noindex
X-PUBLISHED-TTL:PT1H
BEGIN:VTIMEZONE
TZID:Europe/Stockholm
BEGIN:DAYLIGHT
TZOFFSETFROM:+0100
TZOFFSETTO:+0200
TZNAME:CEST
DTSTART:20230326T010000
END:DAYLIGHT
BEGIN:STANDARD
TZOFFSETFROM:+0200
TZOFFSETTO:+0100
TZNAME:CET
DTSTART:20231029T010000
END:STANDARD
BEGIN:DAYLIGHT
TZOFFSETFROM:+0100
TZOFFSETTO:+0200
TZNAME:CEST
DTSTART:20240331T010000
END:DAYLIGHT
BEGIN:STANDARD
TZOFFSETFROM:+0200
TZOFFSETTO:+0100
TZNAME:CET
DTSTART:20241027T010000
END:STANDARD
BEGIN:DAYLIGHT
TZOFFSETFROM:+0100
TZOFFSETTO:+0200
TZNAME:CEST
DTSTART:20250330T010000
END:DAYLIGHT
BEGIN:STANDARD
TZOFFSETFROM:+0200
TZOFFSETTO:+0100
TZNAME:CET
DTSTART:20251026T010000
END:STANDARD
END:VTIMEZONE
BEGIN:VEVENT
DTSTART;TZID=Europe/Stockholm:20240515T090000
DTEND;TZID=Europe/Stockholm:20240517T121000
DTSTAMP:20260426T053100
CREATED:20240319T095630Z
LAST-MODIFIED:20250402T151707Z
UID:265929-1715763600-1715947800@www.inify.com
SUMMARY:Vårmöte i Patologi 2024
DESCRIPTION:Meet us at Vårmöte i Pathology 2024  in Kalmar\, located at Kalmarsalen where both national and international experts talk about modern pathology.
URL:https://www.inify.com/event/varmote-2024/
LOCATION:Kalmarsalen\, Skeppsbrogatan 49\, Kalmar\, Sweden\, 39231
CATEGORIES:Vårmöte i Patologi 2024
ATTACH;FMTTYPE=image/png:https://media.inify.com/Varmote-2024_-662x190-2.png
END:VEVENT
END:VCALENDAR